BEGIN:VCALENDAR
VERSION:2.0
PRODID:icalendar-ruby
CALSCALE:GREGORIAN
METHOD:PUBLISH
BEGIN:VEVENT
DTSTAMP:20260425T022412Z
UID:1298-1597977@edmonton.anglican.ca
DTSTART;VALUE=DATE:20260501
DTEND;VALUE=DATE:20260502
CLASS:PUBLIC
CREATED:20260324T161300
DESCRIPTION:You are invited to the 2026 Anglican Church Women's Annual even
 t!\nFriday\, May 1: ACW Business Meeting at 11 am on Zoom\nSaturday\, May 
 2: Road Trip to Edmonton's Arts District.\nMay 2 ACW 2026 Road Trip to Edm
 onton’s Arts District:\n\nTour day begins at the Cathedral at 10 am\n10 
 am  Welcome with coffee and muffins\n10:30   Morning Worship Service\nUp
 dates: “A Way Through the Wilderness” and “Alongside Hope”\nMeet u
 p with Saints quilters\nLunch (bring your own brown bag lunch)\n1 pm Tour 
 of Alberta Art Gallery – Celebrating Women Artists\n3 pm Afternoon Tea a
 t a restaurant of your choice\n\nAll are welcome.\n\nPlease RSVP to ACW.di
 oceseofedmonton@gmail.com or call Elaine at 780-967-4836 \nThere is no co
 st to attend on May 1. \nOn May 2\, expect to spend $20 to cover parking\
 , LRT transit to Arts District\, and entry to AAG in addition to your bill
  for teatime at a restaurant of your choosing.\n\nThe poster is here and a
 ttached below.\n 
LAST-MODIFIED:20260324T161300
LOCATION:Online and Edmonton Arts District
SUMMARY:2026 ACW Annual Meeting & Road Trip
URL;VALUE=URI:https://edmonton.anglican.ca/events/2026-acw-annual-meeting-r
 oad-trip/2026-05-01
ATTACH;FILENAME=2026_ACW Annual Road Trip.png;FMTTYPE=image/png:https://dq5
 pwpg1q8ru0.cloudfront.net/2026/03/24/22/06/47/cd692440-2125-4201-b478-cb0f
 bdd3d9e0/2026_ACW%20Annual%20Road%20Trip.png
ATTACH;FILENAME=ACW Poster AGM 2026.docx;FMTTYPE=application/vnd.openxmlfor
 mats-officedocument.wordprocessingml.document:https://dq5pwpg1q8ru0.cloudf
 ront.net/2026/03/24/22/06/47/3efadb54-e458-427d-9bd6-2e9328184ffb/ACW%20Po
 ster%20AGM%202026.docx
END:VEVENT
END:VCALENDAR
