BEGIN:VCALENDAR
VERSION:2.0
PRODID:icalendar-ruby
CALSCALE:GREGORIAN
METHOD:PUBLISH
BEGIN:VEVENT
DTSTAMP:20260424T121003Z
UID:1300-1646072@edmonton.anglican.ca
DTSTART:20260412T010000Z
DTEND:20260412T030000Z
CLASS:PUBLIC
CREATED:20260331T143332
DESCRIPTION:As part of their 30th anniversary celebrations\, Korora Choirs 
 is welcoming Namibia’s internationally renowned Collective Singers (coll
 ectivesingers.com) for a spectacular concert on April 11. Also featuring o
 ur own Korora\, Korus\, and Òran\, this concert promises a breathtaking e
 vening of musical artistry\, movement\, and collaboration. You do NOT want
  to miss this. Buy tickets here.\nPlease note: the exact start time of thi
 s event is to be confirmed.\nHELP NEEDED: Do you want to see this concert 
 for free? Do you have an extra bedroom? We still urgently need more househ
 olds to billet members of Collective Singers. If you can help\, please con
 tact Stephanie London.
LAST-MODIFIED:20260331T143332
LOCATION:
SUMMARY:Korora Choirs & Collective Singers from Namibia
URL;VALUE=URI:https://edmonton.anglican.ca/events/korora-choirs-collective-
 singers-from-namibia/2026-04-11
ATTACH;FILENAME=2026_Korora_Collective Singers_Header.png;FMTTYPE=image/png
 :https://dq5pwpg1q8ru0.cloudfront.net/2026/03/31/20/33/32/421e9e0c-b6a6-43
 e3-a002-d98e1cfae11f/2026_Korora_Collective%20Singers_Header.png
END:VEVENT
END:VCALENDAR
