BEGIN:VCALENDAR
VERSION:2.0
PRODID:icalendar-ruby
CALSCALE:GREGORIAN
METHOD:PUBLISH
BEGIN:VEVENT
DTSTAMP:20260425T005542Z
UID:1294-1795388@edmonton.anglican.ca
DTSTART:20260508T000000Z
DTEND:20260508T030000Z
CLASS:PUBLIC
CREATED:20260421T123552
DESCRIPTION:Thank you for your support! The 2026 Bishop's Fund Dinner is no
 w SOLD OUT. If you missed registering for this event\, please plan to join
  us next year.\nThis annual event raises funds to provide support to Angli
 can clergy\, retired clergy\, and their families facing emergencies\, diff
 iculties\, and other unanticipated needs.\nOur speaker will be Professor E
 ric Adams from the Faculty of Law at the University of Alberta\, whose new
 est book\, Challenging Exile: Japanese Canadians and the Wartime Constitu
 tion\, has earned rave reviews. It is a fascinating look at the stories be
 hind the exile of Japanese Canadians after World War II\, where Canadian c
 itizens were not only uprooted from their homes and lives but\, in many ca
 ses\, exiled from Canada.\n 
LAST-MODIFIED:20260421T123552
LOCATION:Royal Glenora Club\, 11160 River Valley Road\, Edmonton
SUMMARY:SOLD OUT - Bishop's Fund Dinner
URL;VALUE=URI:https://edmonton.anglican.ca/events/sold-out-bishops-fund-din
 ner/2026-05-07
ATTACH;FILENAME=2026_Bishop’s Fund Dinner.png;FMTTYPE=image/png:https://d
 q5pwpg1q8ru0.cloudfront.net/2026/03/17/19/01/33/c1e6e1d5-99f6-4d83-b668-92
 f8cbd5bda4/2026_Bishop%E2%80%99s%20Fund%20Dinner.png
END:VEVENT
END:VCALENDAR
