BEGIN:VCALENDAR
VERSION:2.0
PRODID:icalendar-ruby
CALSCALE:GREGORIAN
METHOD:PUBLISH
BEGIN:VEVENT
DTSTAMP:20260424T145305Z
UID:1302-1647252@edmonton.anglican.ca
DTSTART:20260418T143000Z
DTEND:20260418T210000Z
CLASS:PUBLIC
CREATED:20260331T160048
DESCRIPTION:The Diocese of Edmonton is offering its second You Are Leaven 
 mini-conference on spiritual formation and discipleship. Come and experien
 ce new spiritual formation practices and see old ones in new ways.\nSaturd
 ay\, April 18\n\n8:30 to 9:00 am - Coffee and Registration\n9 am to 3 pm -
  Conference\n\nat St. Paul's Anglican Church\, 10127 145 St NW\, Edmonton\
 n2-4 people from each parish are encouraged to attend. \nPOSTER
LAST-MODIFIED:20260331T160048
LOCATION:St. Paul's Anglican Church\, 10127 145 St. NW\, Edmonton
SUMMARY:You are Leaven Spiritual Formation Conference
URL;VALUE=URI:https://edmonton.anglican.ca/events/you-are-leaven-spiritual-
 formation-conference--1302/2026-04-18
ATTACH;FILENAME=You Are Leaven (002).png;FMTTYPE=image/png:https://dq5pwpg1
 q8ru0.cloudfront.net/2026/03/31/21/57/38/7ecb523d-9546-49d7-8469-bfb531078
 a3a/You%20Are%20Leaven%20(002).png
END:VEVENT
END:VCALENDAR
